BEGIN:VCALENDAR
VERSION:2.0
PRODID:-//Koinè Cooperativa Sociale - ECPv6.6.4.2//NONSGML v1.0//EN
CALSCALE:GREGORIAN
METHOD:PUBLISH
X-WR-CALNAME:Koinè Cooperativa Sociale
X-ORIGINAL-URL:https://koinecoopsociale.it
X-WR-CALDESC:Eventi per Koinè Cooperativa Sociale
REFRESH-INTERVAL;VALUE=DURATION:PT1H
X-Robots-Tag:noindex
X-PUBLISHED-TTL:PT1H
BEGIN:VTIMEZONE
TZID:Europe/Rome
BEGIN:DAYLIGHT
TZOFFSETFROM:+0100
TZOFFSETTO:+0200
TZNAME:CEST
DTSTART:20260329T010000
END:DAYLIGHT
BEGIN:STANDARD
TZOFFSETFROM:+0200
TZOFFSETTO:+0100
TZNAME:CET
DTSTART:20261025T010000
END:STANDARD
END:VTIMEZONE
BEGIN:VEVENT
DTSTART;TZID=Europe/Rome:20260504T180000
DTEND;TZID=Europe/Rome:20260504T200000
DTSTAMP:20260425T161617
CREATED:20260416T123512Z
LAST-MODIFIED:20260416T123512Z
UID:10003330-1777917600-1777924800@koinecoopsociale.it
SUMMARY:Oltre il muro: parole ed emozioni che costruiscono ponti
DESCRIPTION:Invitiamo tutte le famiglie del territorio a partecipare al ciclo di incontri aperti a tutti\, pensati come spazi di ascolto e confronto\, dove ogni voce può trovare posto\, organizzati dai nidi d’infanzia comunali in coprogettazione con il Gruppo Mediazione.\nOltre il muro: parole ed emozioni che costruiscono ponti – è il titolo dei due incontri che si terranno lunedì 4 maggio e lunedì 18 maggio alle ore 18.00 – 20.00 presso il Nido d’infanzia “Il mio nido” di Via Petrarca 1\, Vimodrone. \nCi sono muri che non si vedono. Nascono da parole non dette\, da silenzi\, da incomprensioni. A volte crescono piano\, altre volte arrivano all’improvviso. Eppure\, ogni muro può raccontare qualcosa e forse\, insieme\, possiamo imparare ad attraversarlo. A partire dall’albo illustrato “I muri” si aprirà uno spazio di dialogo confronto e di ascolto. Perché a volte basta poco: una parola\, uno sguardo\, un passo… per trasformare un muro in un ponte! \nVi aspettiamo\, non occorre prenotare. \n 
URL:https://koinecoopsociale.it/evento/oltre-il-muro-parole-ed-emozioni-che-costruiscono-ponti/2026-05-04/
LOCATION:nido via petrarca vimodrone\, Via Petrarca 1\, Vimodrone\, Italia
CATEGORIES:Prima infanzia
ATTACH;FMTTYPE=image/jpeg:https://koinecoopsociale.it/wp-assets/uploads/2026/04/WhatsApp-Image-2026-04-14-at-11.51.31_Pamela-Maffeis.jpeg
GEO:45.5163287;9.2853548
X-APPLE-STRUCTURED-LOCATION;VALUE=URI;X-ADDRESS=nido via petrarca vimodrone Via Petrarca 1 Vimodrone Italia;X-APPLE-RADIUS=500;X-TITLE=Via Petrarca 1:geo:9.2853548,45.5163287
END:VEVENT
BEGIN:VEVENT
DTSTART;TZID=Europe/Rome:20260505T173000
DTEND;TZID=Europe/Rome:20260505T190000
DTSTAMP:20260425T161617
CREATED:20260415T075435Z
LAST-MODIFIED:20260415T075435Z
UID:10003327-1778002200-1778007600@koinecoopsociale.it
SUMMARY:Paure\, dubbi e domande sull'essere genitori oggi
DESCRIPTION:Paure\, dubbi e domande sull’essere genitori oggi: come possiamo accompagnare i bambini in questo tempo complesso? Il 5 maggio 2026 alle ore 17:30 si terrà presso l’asilo nido Il Trenino di Novate Milanese\, un Aperitivo Pedagogico con la pedagogista Silvia Mozzi.\nSarà un’occasione di dialogo e di confronto dedicata a genitori o familiari di bambini nella fascia 0/6. \n\nL’incontro è gratuito ma è obbligatoria l’iscrizione asiloiltrenino@koinecoopsociale.it
URL:https://koinecoopsociale.it/evento/paure-dubbi-e-domande-sullessere-genitori-oggi/
LOCATION:nido il trenino novate\, Via Baranzate\, 8\, Novate Milanese\, MI\, Italia
CATEGORIES:Prima infanzia
ATTACH;FMTTYPE=image/jpeg:https://koinecoopsociale.it/wp-assets/uploads/2022/11/VIMODRONE-APERITIVO-PEDAG.jpg
GEO:45.5310403;9.1325315
X-APPLE-STRUCTURED-LOCATION;VALUE=URI;X-ADDRESS=nido il trenino novate Via Baranzate 8 Novate Milanese MI Italia;X-APPLE-RADIUS=500;X-TITLE=Via Baranzate\, 8:geo:9.1325315,45.5310403
END:VEVENT
BEGIN:VEVENT
DTSTART;TZID=Europe/Rome:20260505T180000
DTEND;TZID=Europe/Rome:20260505T193000
DTSTAMP:20260425T161617
CREATED:20260420T071321Z
LAST-MODIFIED:20260420T071321Z
UID:10003332-1778004000-1778009400@koinecoopsociale.it
SUMMARY:Aperte le iscrizioni per il Nido d’infanzia “Il Trenino dei Sogni”  a Trezzano Rosa
DESCRIPTION:A Trezzano Rosa abbiamo preso in gestione il Nido d’infanzia “Il Trenino dei Sogni” di via Padre Marengoni 11 che riaprirà così le sue porte per bambine e bambini dai 3 ai 36 mesi dal prossimo settembre. \nMartedì 5 maggio alle ore 18.00 il personale di Koinè\, insieme all’Amministrazione Comunale\, incontrerà le famiglie presso la Sala Consiliare di Villa Ida\, a Trezzano Rosa per presentare la cooperativa\, la sua organizzazione e i valori del  progetto pedagogico. Nei nidi dell’infanzia gestiti da Koinè infatti bambine e bambini sono accompagnati nella loro naturale curiosità e nel loro sviluppo emotivo con una progettazione pedagogica attenta\, che privilegia l’uso di materiali naturali e considera il nido parte integrante del territorio e della comunità.
URL:https://koinecoopsociale.it/evento/aperte-le-iscrizioni-per-il-nido-dinfanzia-il-trenino-dei-sogni-a-trezzano-rosa/
CATEGORIES:Prima infanzia
ATTACH;FMTTYPE=image/jpeg:https://koinecoopsociale.it/wp-assets/uploads/2025/05/10-MARZO-10-e1747831833891.jpg
END:VEVENT
BEGIN:VEVENT
DTSTART;TZID=Europe/Rome:20260509T150000
DTEND;TZID=Europe/Rome:20260509T180000
DTSTAMP:20260425T161617
CREATED:20260414T134615Z
LAST-MODIFIED:20260414T134615Z
UID:10003326-1778338800-1778349600@koinecoopsociale.it
SUMMARY:L'albero del baratto
DESCRIPTION:Che cos è l’albero del baratto? A Vimodrone è uno spazio di scambio dedicato alle famiglie con bambini e ragazzi da 0 a 17 anni\, dove si possono barattare vestiti\, oggetti e giochi. Invece di buttare… vieni a barattare! Diamo nuova vita a ciò che non utilizziamo più e facciamo insieme un gesto concreto per l’ambiente e per la comunità!\nE se ti va di condividere porta con te qualcosa per fare una merenda insieme! I bambini avranno la possibilità di giocare nel nostro giardino!\nL’iniziativa è organizzata in collaborazione con il Comitato Genitori di Vimodrone e l’Associazione Plesìos.\nVi aspettiamo. Accesso libero senza prenotazione \nDate: \n\n9 maggio: scambio di abbigliamento per bambini 0-13 anni\n23 maggio: scambio di giochi (figurine calciatori\, carte pokémon\, giochi della play station\, libri… )\n13 giugno: scambio di oggettistica e materiale vario (biciclette\, seggioloni\, lettini etc.)\n\nore 15.00 – 18.00 \nDove: Nido d’infanzia comunale ‘Il Mio Nido’ via Petrarca 1\, Vimodrone \n 
URL:https://koinecoopsociale.it/evento/lalbero-del-baratto-2/
LOCATION:nido via petrarca vimodrone\, Via Petrarca 1\, Vimodrone\, Italia
CATEGORIES:Prima infanzia
ATTACH;FMTTYPE=image/jpeg:https://koinecoopsociale.it/wp-assets/uploads/2026/04/Vimodrone-2026-baratto-e1776174446556.jpeg
GEO:45.5163287;9.2853548
X-APPLE-STRUCTURED-LOCATION;VALUE=URI;X-ADDRESS=nido via petrarca vimodrone Via Petrarca 1 Vimodrone Italia;X-APPLE-RADIUS=500;X-TITLE=Via Petrarca 1:geo:9.2853548,45.5163287
END:VEVENT
BEGIN:VEVENT
DTSTART;TZID=Europe/Rome:20260518T180000
DTEND;TZID=Europe/Rome:20260518T200000
DTSTAMP:20260425T161617
CREATED:20260416T123512Z
LAST-MODIFIED:20260416T123512Z
UID:10003331-1779127200-1779134400@koinecoopsociale.it
SUMMARY:Oltre il muro: parole ed emozioni che costruiscono ponti
DESCRIPTION:Invitiamo tutte le famiglie del territorio a partecipare al ciclo di incontri aperti a tutti\, pensati come spazi di ascolto e confronto\, dove ogni voce può trovare posto\, organizzati dai nidi d’infanzia comunali in coprogettazione con il Gruppo Mediazione.\nOltre il muro: parole ed emozioni che costruiscono ponti – è il titolo dei due incontri che si terranno lunedì 4 maggio e lunedì 18 maggio alle ore 18.00 – 20.00 presso il Nido d’infanzia “Il mio nido” di Via Petrarca 1\, Vimodrone. \nCi sono muri che non si vedono. Nascono da parole non dette\, da silenzi\, da incomprensioni. A volte crescono piano\, altre volte arrivano all’improvviso. Eppure\, ogni muro può raccontare qualcosa e forse\, insieme\, possiamo imparare ad attraversarlo. A partire dall’albo illustrato “I muri” si aprirà uno spazio di dialogo confronto e di ascolto. Perché a volte basta poco: una parola\, uno sguardo\, un passo… per trasformare un muro in un ponte! \nVi aspettiamo\, non occorre prenotare. \n 
URL:https://koinecoopsociale.it/evento/oltre-il-muro-parole-ed-emozioni-che-costruiscono-ponti/2026-05-18/
LOCATION:nido via petrarca vimodrone\, Via Petrarca 1\, Vimodrone\, Italia
CATEGORIES:Prima infanzia
ATTACH;FMTTYPE=image/jpeg:https://koinecoopsociale.it/wp-assets/uploads/2026/04/WhatsApp-Image-2026-04-14-at-11.51.31_Pamela-Maffeis.jpeg
GEO:45.5163287;9.2853548
X-APPLE-STRUCTURED-LOCATION;VALUE=URI;X-ADDRESS=nido via petrarca vimodrone Via Petrarca 1 Vimodrone Italia;X-APPLE-RADIUS=500;X-TITLE=Via Petrarca 1:geo:9.2853548,45.5163287
END:VEVENT
BEGIN:VEVENT
DTSTART;TZID=Europe/Rome:20260529T170000
DTEND;TZID=Europe/Rome:20260529T190000
DTSTAMP:20260425T161617
CREATED:20260414T081604Z
LAST-MODIFIED:20260414T081604Z
UID:10003325-1780074000-1780081200@koinecoopsociale.it
SUMMARY:Open day "Giochiamo insieme" allo Spazio Stella
DESCRIPTION:Allo Spazio Stella Open day di “giochiamo insieme” venerdì 29 maggio 2026 dalle 17.00 alle 19.00. Il Centro Prima Infanzia “Giochiamo Insieme” è aperto dal lunedì al venerdì\, dalle 8.30 alle 12.00\, ed è rivolto ai bambini e alle bambine dai 12 ai 36 mesi che non frequentano ancora un servizio per la prima infanzia. Qui potranno sperimentare le prime esperienze di socializzazione e condivisione. Il servizio è a pagamento ed è previsto un periodo di ambientamento di tre giorni\, successivo al colloquio con l’educatrice. \nAccesso libero \nCon il sostegno di www.beforeducation.org
URL:https://koinecoopsociale.it/evento/open-day-giochiamo-insieme-allo-spazio-stella-2/
LOCATION:spazio stella\, via ovidio 1\, cologno monzese\, Italia
CATEGORIES:Prima infanzia
ATTACH;FMTTYPE=image/jpeg:https://koinecoopsociale.it/wp-assets/uploads/2026/04/giochiamo-insieme-e1776154537803.jpeg
GEO:45.5357986;9.2819812
X-APPLE-STRUCTURED-LOCATION;VALUE=URI;X-ADDRESS=spazio stella via ovidio 1 cologno monzese Italia;X-APPLE-RADIUS=500;X-TITLE=via ovidio 1:geo:9.2819812,45.5357986
END:VEVENT
END:VCALENDAR