BEGIN:VCALENDAR
VERSION:2.0
PRODID:-//Koinè Cooperativa Sociale - ECPv6.6.4.2//NONSGML v1.0//EN
CALSCALE:GREGORIAN
METHOD:PUBLISH
X-ORIGINAL-URL:https://koinecoopsociale.it
X-WR-CALDESC:Eventi per Koinè Cooperativa Sociale
REFRESH-INTERVAL;VALUE=DURATION:PT1H
X-Robots-Tag:noindex
X-PUBLISHED-TTL:PT1H
BEGIN:VTIMEZONE
TZID:Europe/Rome
BEGIN:DAYLIGHT
TZOFFSETFROM:+0100
TZOFFSETTO:+0200
TZNAME:CEST
DTSTART:20220327T010000
END:DAYLIGHT
BEGIN:STANDARD
TZOFFSETFROM:+0200
TZOFFSETTO:+0100
TZNAME:CET
DTSTART:20221030T010000
END:STANDARD
END:VTIMEZONE
BEGIN:VEVENT
DTSTART;TZID=Europe/Rome:20220413T170000
DTEND;TZID=Europe/Rome:20220413T180000
DTSTAMP:20260425T145712
CREATED:20220321T121119Z
LAST-MODIFIED:20220321T121119Z
UID:10002003-1649869200-1649872800@koinecoopsociale.it
SUMMARY:Musica sensibile a Vimodrone
DESCRIPTION:Partono gli incontri sulla Musica sensibile alla Casetta Gialla di Vimodrone. Il Tempo per le famiglie “la casetta gialla” è un luogo pensato per neo mamme e famiglie con bambini 0-6 anni\, residenti a Vimodrone\, gestito da Koinè cooperativa sociale per conto del Comune. \nMusica sensibile: I bambini saranno protagonisti con il corpo\, con la voce\, con il movimento\, sperimenteranno giochi e danze. Gruppi per bambine e bambini dai 12 ai 36 mesi e dai 3 ai 6 anni. \nSi comincia mercoledì 4 maggio ore 17.00. Costo 130 euro per 10 incontri. \nPOSSIBILITA’ DI FARE LA PRIMA LEZIONE GRATUITA il 13 aprile\, PRENOTANDOSI ONLINE \nLe iscrizioni sono aperte online \nPer informazioni:\nCasetta Gialla via Fiume 20 tel. 3486287439 tempofamiglievimodrone@koinecoopsociale.it \nScopri gli altri appuntamenti per famiglie alla Casetta Gialla
URL:https://koinecoopsociale.it/evento/musica-sensibile-a-vimodrone/
CATEGORIES:Prima infanzia
ATTACH;FMTTYPE=image/jpeg:https://koinecoopsociale.it/wp-assets/uploads/2022/06/WhatsApp-Image-2022-03-08-at-09.02.39-2-e1647868244914.jpeg
END:VEVENT
END:VCALENDAR