BEGIN:VCALENDAR
VERSION:2.0
PRODID:-//Koinè Cooperativa Sociale - ECPv6.6.4.2//NONSGML v1.0//EN
CALSCALE:GREGORIAN
METHOD:PUBLISH
X-WR-CALNAME:Koinè Cooperativa Sociale
X-ORIGINAL-URL:https://koinecoopsociale.it
X-WR-CALDESC:Eventi per Koinè Cooperativa Sociale
REFRESH-INTERVAL;VALUE=DURATION:PT1H
X-Robots-Tag:noindex
X-PUBLISHED-TTL:PT1H
BEGIN:VTIMEZONE
TZID:Europe/Rome
BEGIN:DAYLIGHT
TZOFFSETFROM:+0100
TZOFFSETTO:+0200
TZNAME:CEST
DTSTART:20220327T010000
END:DAYLIGHT
BEGIN:STANDARD
TZOFFSETFROM:+0200
TZOFFSETTO:+0100
TZNAME:CET
DTSTART:20221030T010000
END:STANDARD
END:VTIMEZONE
BEGIN:VEVENT
DTSTART;TZID=Europe/Rome:20220416T093000
DTEND;TZID=Europe/Rome:20220416T113000
DTSTAMP:20260425T144445
CREATED:20220303T133951Z
LAST-MODIFIED:20220303T133951Z
UID:10001987-1650101400-1650108600@koinecoopsociale.it
SUMMARY:Curiosiamo in giardino a Novate
DESCRIPTION:Nei giardini degli Asili Nido Comunali di  Novate Milanese vi aspettiamo per vivere un momento all’insegna della sostenibilità ambientale nel Giardino della Lumaca! Troverete proposte di gioco per esplorare ciò che la natura offre e per scoprire quanto è importante rispettare l’ambiente prendendosene cura\, sin da piccoli\,  grazie al progetto con il Comune di Novate Milanese\, realizzato con il contributo del Dipartimento per le politiche della famiglia. Appuntamenti gratuiti per bambine e bambini di 0-6 anni. \nNido Comunale “Prato fiorito” via Campo dei Fiori\, 41\n\nsabato 26 marzo ore 9.30 -11.30 open day\nsabato 30 aprile ore 9.30 -11.30\nsabato 7 maggio ore 9.30 -11.30 iniziativa all’interno della CIVIL WEEK\nsabato 14 maggio ore 9.30 -11.30\nsabato 21 maggio ore 9.30 -11.30\n\nNido Comunale “Il Trenino” Via Baranzate 6\n\nsabato 12 marzo ore 9.30 -11.30 open day\nsabato 7 maggio ore 16.00 – 18.00  CIVIL WEEK \n\nIscrizioni online
URL:https://koinecoopsociale.it/evento/curiosiamo-in-giardino-a-novate-2/2022-04-16/
CATEGORIES:Prima infanzia
ATTACH;FMTTYPE=image/jpeg:https://koinecoopsociale.it/wp-assets/uploads/2022/06/seduti-sui-tronchi-scaled-e1634646659353.jpg
END:VEVENT
END:VCALENDAR