BEGIN:VCALENDAR
VERSION:2.0
PRODID:-//Koinè Cooperativa Sociale - ECPv6.6.4.2//NONSGML v1.0//EN
CALSCALE:GREGORIAN
METHOD:PUBLISH
X-ORIGINAL-URL:https://koinecoopsociale.it
X-WR-CALDESC:Eventi per Koinè Cooperativa Sociale
REFRESH-INTERVAL;VALUE=DURATION:PT1H
X-Robots-Tag:noindex
X-PUBLISHED-TTL:PT1H
BEGIN:VTIMEZONE
TZID:Europe/Rome
BEGIN:DAYLIGHT
TZOFFSETFROM:+0100
TZOFFSETTO:+0200
TZNAME:CEST
DTSTART:20260329T010000
END:DAYLIGHT
BEGIN:STANDARD
TZOFFSETFROM:+0200
TZOFFSETTO:+0100
TZNAME:CET
DTSTART:20261025T010000
END:STANDARD
END:VTIMEZONE
BEGIN:VEVENT
DTSTART;TZID=Europe/Rome:20260424T183000
DTEND;TZID=Europe/Rome:20260424T210000
DTSTAMP:20260424T083211
CREATED:20260420T072333Z
LAST-MODIFIED:20260420T072333Z
UID:10003334-1777055400-1777064400@koinecoopsociale.it
SUMMARY:Abbazia all’imbrunire
DESCRIPTION:L’Abbazia di Chiaravalle apre eccezionalmente i battenti alla sera. 7 occasioni per un percorso suggestivo tra le ombre\, i silenzi e i gusti delle ore vespertine all’interno della chiesa e del chiostro. Le suggestioni artistiche saranno seguite da un aperitivo a base di insalata di riso o di pasta\, taglieri di formaggio e salumi di produzioni cenobitiche\, birra monastica alla spina o  bibita a scelta da consumarsi presso il Ristoro dell’Abbazia. \nL’evento è realizzato da Koinè cooperativa sociale\, in collaborazione con il Ristoro dell’Abbazia. \nProgramma\nOre 18:30 ritrovo presso l’Infopoint \nOre 18:45 visita guidata a chiesa e chiostro \nOre 20:00 aperitivo al Ristoro \nOre 21:00 saluti \nCosti e iscrizioni
URL:https://koinecoopsociale.it/evento/abbazia-allimbrunire-2/2026-04-24/
LOCATION:abbazia di Chiaravalle\, via sant'Arialdo 102\, Milano\, Italia
CATEGORIES:Ambiente e cultura
ATTACH;FMTTYPE=image/jpeg:https://koinecoopsociale.it/wp-assets/uploads/2022/06/abbazia-imbrunire.jpg
GEO:45.4165494;9.2356955
X-APPLE-STRUCTURED-LOCATION;VALUE=URI;X-ADDRESS=abbazia di Chiaravalle via sant'Arialdo 102 Milano Italia;X-APPLE-RADIUS=500;X-TITLE=via sant'Arialdo 102:geo:9.2356955,45.4165494
END:VEVENT
BEGIN:VEVENT
DTSTART;TZID=Europe/Rome:20260529T183000
DTEND;TZID=Europe/Rome:20260529T210000
DTSTAMP:20260424T083211
CREATED:20260420T072333Z
LAST-MODIFIED:20260420T072333Z
UID:10003335-1780079400-1780088400@koinecoopsociale.it
SUMMARY:Abbazia all’imbrunire
DESCRIPTION:L’Abbazia di Chiaravalle apre eccezionalmente i battenti alla sera. 7 occasioni per un percorso suggestivo tra le ombre\, i silenzi e i gusti delle ore vespertine all’interno della chiesa e del chiostro. Le suggestioni artistiche saranno seguite da un aperitivo a base di insalata di riso o di pasta\, taglieri di formaggio e salumi di produzioni cenobitiche\, birra monastica alla spina o  bibita a scelta da consumarsi presso il Ristoro dell’Abbazia. \nL’evento è realizzato da Koinè cooperativa sociale\, in collaborazione con il Ristoro dell’Abbazia. \nProgramma\nOre 18:30 ritrovo presso l’Infopoint \nOre 18:45 visita guidata a chiesa e chiostro \nOre 20:00 aperitivo al Ristoro \nOre 21:00 saluti \nCosti e iscrizioni
URL:https://koinecoopsociale.it/evento/abbazia-allimbrunire-2/2026-05-29/
LOCATION:abbazia di Chiaravalle\, via sant'Arialdo 102\, Milano\, Italia
CATEGORIES:Ambiente e cultura
ATTACH;FMTTYPE=image/jpeg:https://koinecoopsociale.it/wp-assets/uploads/2022/06/abbazia-imbrunire.jpg
GEO:45.4165494;9.2356955
X-APPLE-STRUCTURED-LOCATION;VALUE=URI;X-ADDRESS=abbazia di Chiaravalle via sant'Arialdo 102 Milano Italia;X-APPLE-RADIUS=500;X-TITLE=via sant'Arialdo 102:geo:9.2356955,45.4165494
END:VEVENT
BEGIN:VEVENT
DTSTART;TZID=Europe/Rome:20260717T183000
DTEND;TZID=Europe/Rome:20260717T210000
DTSTAMP:20260424T083211
CREATED:20260420T072333Z
LAST-MODIFIED:20260420T072333Z
UID:10003336-1784313000-1784322000@koinecoopsociale.it
SUMMARY:Abbazia all’imbrunire
DESCRIPTION:L’Abbazia di Chiaravalle apre eccezionalmente i battenti alla sera. 7 occasioni per un percorso suggestivo tra le ombre\, i silenzi e i gusti delle ore vespertine all’interno della chiesa e del chiostro. Le suggestioni artistiche saranno seguite da un aperitivo a base di insalata di riso o di pasta\, taglieri di formaggio e salumi di produzioni cenobitiche\, birra monastica alla spina o  bibita a scelta da consumarsi presso il Ristoro dell’Abbazia. \nL’evento è realizzato da Koinè cooperativa sociale\, in collaborazione con il Ristoro dell’Abbazia. \nProgramma\nOre 18:30 ritrovo presso l’Infopoint \nOre 18:45 visita guidata a chiesa e chiostro \nOre 20:00 aperitivo al Ristoro \nOre 21:00 saluti \nCosti e iscrizioni
URL:https://koinecoopsociale.it/evento/abbazia-allimbrunire-2/2026-07-17/
LOCATION:abbazia di Chiaravalle\, via sant'Arialdo 102\, Milano\, Italia
CATEGORIES:Ambiente e cultura
ATTACH;FMTTYPE=image/jpeg:https://koinecoopsociale.it/wp-assets/uploads/2022/06/abbazia-imbrunire.jpg
GEO:45.4165494;9.2356955
X-APPLE-STRUCTURED-LOCATION;VALUE=URI;X-ADDRESS=abbazia di Chiaravalle via sant'Arialdo 102 Milano Italia;X-APPLE-RADIUS=500;X-TITLE=via sant'Arialdo 102:geo:9.2356955,45.4165494
END:VEVENT
BEGIN:VEVENT
DTSTART;TZID=Europe/Rome:20261002T183000
DTEND;TZID=Europe/Rome:20261002T210000
DTSTAMP:20260424T083211
CREATED:20260420T072333Z
LAST-MODIFIED:20260420T072333Z
UID:10003337-1790965800-1790974800@koinecoopsociale.it
SUMMARY:Abbazia all’imbrunire
DESCRIPTION:L’Abbazia di Chiaravalle apre eccezionalmente i battenti alla sera. 7 occasioni per un percorso suggestivo tra le ombre\, i silenzi e i gusti delle ore vespertine all’interno della chiesa e del chiostro. Le suggestioni artistiche saranno seguite da un aperitivo a base di insalata di riso o di pasta\, taglieri di formaggio e salumi di produzioni cenobitiche\, birra monastica alla spina o  bibita a scelta da consumarsi presso il Ristoro dell’Abbazia. \nL’evento è realizzato da Koinè cooperativa sociale\, in collaborazione con il Ristoro dell’Abbazia. \nProgramma\nOre 18:30 ritrovo presso l’Infopoint \nOre 18:45 visita guidata a chiesa e chiostro \nOre 20:00 aperitivo al Ristoro \nOre 21:00 saluti \nCosti e iscrizioni
URL:https://koinecoopsociale.it/evento/abbazia-allimbrunire-2/2026-10-02/
LOCATION:abbazia di Chiaravalle\, via sant'Arialdo 102\, Milano\, Italia
CATEGORIES:Ambiente e cultura
ATTACH;FMTTYPE=image/jpeg:https://koinecoopsociale.it/wp-assets/uploads/2022/06/abbazia-imbrunire.jpg
GEO:45.4165494;9.2356955
X-APPLE-STRUCTURED-LOCATION;VALUE=URI;X-ADDRESS=abbazia di Chiaravalle via sant'Arialdo 102 Milano Italia;X-APPLE-RADIUS=500;X-TITLE=via sant'Arialdo 102:geo:9.2356955,45.4165494
END:VEVENT
BEGIN:VEVENT
DTSTART;TZID=Europe/Rome:20261113T183000
DTEND;TZID=Europe/Rome:20261113T210000
DTSTAMP:20260424T083211
CREATED:20260420T072333Z
LAST-MODIFIED:20260420T072333Z
UID:10003338-1794594600-1794603600@koinecoopsociale.it
SUMMARY:Abbazia all’imbrunire
DESCRIPTION:L’Abbazia di Chiaravalle apre eccezionalmente i battenti alla sera. 7 occasioni per un percorso suggestivo tra le ombre\, i silenzi e i gusti delle ore vespertine all’interno della chiesa e del chiostro. Le suggestioni artistiche saranno seguite da un aperitivo a base di insalata di riso o di pasta\, taglieri di formaggio e salumi di produzioni cenobitiche\, birra monastica alla spina o  bibita a scelta da consumarsi presso il Ristoro dell’Abbazia. \nL’evento è realizzato da Koinè cooperativa sociale\, in collaborazione con il Ristoro dell’Abbazia. \nProgramma\nOre 18:30 ritrovo presso l’Infopoint \nOre 18:45 visita guidata a chiesa e chiostro \nOre 20:00 aperitivo al Ristoro \nOre 21:00 saluti \nCosti e iscrizioni
URL:https://koinecoopsociale.it/evento/abbazia-allimbrunire-2/2026-11-13/
LOCATION:abbazia di Chiaravalle\, via sant'Arialdo 102\, Milano\, Italia
CATEGORIES:Ambiente e cultura
ATTACH;FMTTYPE=image/jpeg:https://koinecoopsociale.it/wp-assets/uploads/2022/06/abbazia-imbrunire.jpg
GEO:45.4165494;9.2356955
X-APPLE-STRUCTURED-LOCATION;VALUE=URI;X-ADDRESS=abbazia di Chiaravalle via sant'Arialdo 102 Milano Italia;X-APPLE-RADIUS=500;X-TITLE=via sant'Arialdo 102:geo:9.2356955,45.4165494
END:VEVENT
END:VCALENDAR