BEGIN:VCALENDAR
VERSION:2.0
PRODID:-//Koinè Cooperativa Sociale - ECPv6.6.4.2//NONSGML v1.0//EN
CALSCALE:GREGORIAN
METHOD:PUBLISH
X-ORIGINAL-URL:https://koinecoopsociale.it
X-WR-CALDESC:Eventi per Koinè Cooperativa Sociale
REFRESH-INTERVAL;VALUE=DURATION:PT1H
X-Robots-Tag:noindex
X-PUBLISHED-TTL:PT1H
BEGIN:VTIMEZONE
TZID:Europe/Rome
BEGIN:DAYLIGHT
TZOFFSETFROM:+0100
TZOFFSETTO:+0200
TZNAME:CEST
DTSTART:20260329T010000
END:DAYLIGHT
BEGIN:STANDARD
TZOFFSETFROM:+0200
TZOFFSETTO:+0100
TZNAME:CET
DTSTART:20261025T010000
END:STANDARD
END:VTIMEZONE
BEGIN:VEVENT
DTSTART;TZID=Europe/Rome:20260516T150000
DTEND;TZID=Europe/Rome:20260516T180000
DTSTAMP:20260424T110305
CREATED:20260320T111629Z
LAST-MODIFIED:20260320T111629Z
UID:10003318-1778943600-1778954400@koinecoopsociale.it
SUMMARY:Bioblitz Lombardia a Bregnano al parco Lura
DESCRIPTION:Sabato 16 maggio al nuovo museo delle api di Bregnano nel Parco Lura ci aspetta il BioBlitz\, l’azione educativa di citizen science (scienza dei cittadini) in cui scienziati\, famiglie\, studenti\, insegnanti e altri membri della comunità lavorano insieme in natura per trovare e identificare il maggior numero possibile di specie viventi.\nA un BioBlitz possono partecipare tutti: bambini\, ragazzi\, adulti\, anziani\, ma anche studenti universitari\, famiglie e in generale persone appassionate di natura\, che vogliono lavorare fianco a fianco con gli “specialisti della natura”. Adatto dai 6 anni di età. \nE’ richiesta la prenotazione \nIl Museo della api di Bregnano è frutto di una ristrutturazione da parte del Parco Lura del 2024\, con l’obiettivo oltre al recupero di uno spazio di aggregazione allora non utilizzato ed alla riqualificazione naturalistica dell’area\, anche quello di sensibilizzare studenti e cittadini che frequenteranno il luogo sull’importanza delle api\, ed in generale degli insetti impollinatori\, nella conservazione della biodiversità e del ciclo della produzione agricola. \nBIOBLITZ \nDal 2016\, Regione Lombardia organizza annualmente il Bioblitz all’interno delle Aree Protette Lombarde e Parchi Regionali con il supporto organizzativo del Servizio di AREA Parchi\, il Parco Regionale dell’Oglio Sud e la Riserva Naturale Le Bine e con la collaborazione attiva dei numerosi parchi regionali e delle riserve naturali. \nCome ormai da tradizione\, anche per questa edizione è stato individuato un gruppo tassonomico trasversale da censire in tutte le Aree Protette coinvolte. In continuità con lo scorso anno\, l’attenzione sarà rivolta ai lepidotteri\, con il “censimento dei 15 minuti”\, realizzato in collaborazione con l’Università di Torino.\nScopri di più
URL:https://koinecoopsociale.it/evento/bioblitz-lombardia-a-bregnano-al-parco-lura/
LOCATION:museo api\, Via Prava\, Bregnano\, Provincia di Como\, 22070\, Italy
CATEGORIES:Ambiente e cultura
ATTACH;FMTTYPE=image/jpeg:https://koinecoopsociale.it/wp-assets/uploads/2023/05/farfalla.jpg
GEO:45.6898795;9.0529027
X-APPLE-STRUCTURED-LOCATION;VALUE=URI;X-ADDRESS=museo api Via Prava Bregnano Provincia di Como 22070 Italy;X-APPLE-RADIUS=500;X-TITLE=Via Prava:geo:9.0529027,45.6898795
END:VEVENT
END:VCALENDAR